BEGIN:VCALENDAR
VERSION:2.0
PRODID:-//Windsor Education Foundation - ECPv6.15.18//NONSGML v1.0//EN
CALSCALE:GREGORIAN
METHOD:PUBLISH
X-WR-CALNAME:Windsor Education Foundation
X-ORIGINAL-URL:https://windsoreducationfoundation.org
X-WR-CALDESC:Events for Windsor Education Foundation
REFRESH-INTERVAL;VALUE=DURATION:PT1H
X-Robots-Tag:noindex
X-PUBLISHED-TTL:PT1H
BEGIN:VTIMEZONE
TZID:America/New_York
BEGIN:DAYLIGHT
TZOFFSETFROM:-0500
TZOFFSETTO:-0400
TZNAME:EDT
DTSTART:20160313T070000
END:DAYLIGHT
BEGIN:STANDARD
TZOFFSETFROM:-0400
TZOFFSETTO:-0500
TZNAME:EST
DTSTART:20161106T060000
END:STANDARD
BEGIN:DAYLIGHT
TZOFFSETFROM:-0500
TZOFFSETTO:-0400
TZNAME:EDT
DTSTART:20170312T070000
END:DAYLIGHT
BEGIN:STANDARD
TZOFFSETFROM:-0400
TZOFFSETTO:-0500
TZNAME:EST
DTSTART:20171105T060000
END:STANDARD
BEGIN:DAYLIGHT
TZOFFSETFROM:-0500
TZOFFSETTO:-0400
TZNAME:EDT
DTSTART:20180311T070000
END:DAYLIGHT
BEGIN:STANDARD
TZOFFSETFROM:-0400
TZOFFSETTO:-0500
TZNAME:EST
DTSTART:20181104T060000
END:STANDARD
BEGIN:DAYLIGHT
TZOFFSETFROM:-0500
TZOFFSETTO:-0400
TZNAME:EDT
DTSTART:20190310T070000
END:DAYLIGHT
BEGIN:STANDARD
TZOFFSETFROM:-0400
TZOFFSETTO:-0500
TZNAME:EST
DTSTART:20191103T060000
END:STANDARD
BEGIN:DAYLIGHT
TZOFFSETFROM:-0500
TZOFFSETTO:-0400
TZNAME:EDT
DTSTART:20200308T070000
END:DAYLIGHT
BEGIN:STANDARD
TZOFFSETFROM:-0400
TZOFFSETTO:-0500
TZNAME:EST
DTSTART:20201101T060000
END:STANDARD
BEGIN:DAYLIGHT
TZOFFSETFROM:-0500
TZOFFSETTO:-0400
TZNAME:EDT
DTSTART:20210314T070000
END:DAYLIGHT
BEGIN:STANDARD
TZOFFSETFROM:-0400
TZOFFSETTO:-0500
TZNAME:EST
DTSTART:20211107T060000
END:STANDARD
END:VTIMEZONE
BEGIN:VEVENT
DTSTART;TZID=America/New_York:20200824T080000
DTEND;TZID=America/New_York:20200915T170000
DTSTAMP:20260425T221921
CREATED:20200824T120000Z
LAST-MODIFIED:20200825T171629Z
UID:1169-1598256000-1600189200@windsoreducationfoundation.org
SUMMARY:School Supplies Drive
DESCRIPTION:During these unprecedented and challenging times\, we are proud to announce that WEF is supporting the Office of Family and Community Partnership for Windsor Public Schools as families\, teachers and students navigate remote\, in-person and distance learning. That partnership is asking the community to donate new school supplies or support through monetary donations so that students learning from home this year will have the resources they need to succeed. \nWEF will match the first $5\,000 donated! \nPlease support this worthy cause. Donate on our website or drop school supplies off at designated locations around town: Geissler’s\, Stop&Shop\, The Bean 226\, and Mahaney’s. \nTogether we can help Windsor students succeed! \nDonate Cash or Supplies Today!\n\n\n                \n                        \n                             \n                        \n                        Name*\n                            \n                            \n                                                    \n                                                    First\n                                                \n                            \n                            \n                                                    \n                                                    Last\n                                                \n                            \n                        Email*\n                            \n                        PhoneBilling Address*    \n                    \n                         \n                                        \n                                        Street Address\n                                    \n                                    \n                                    City\n                                 \n                                        AlabamaAlaskaAmerican SamoaArizonaArkansasCaliforniaColoradoConnecticutDelawareDistrict of ColumbiaFloridaGeorgiaGuamHawaiiIdahoIllinoisIndianaIowaKansasKentuckyLouisianaMaineMarylandMassachusettsMichiganMinnesotaMississippiMissouriMontanaNebraskaNevadaNew HampshireNew JerseyNew MexicoNew YorkNorth CarolinaNorth DakotaNorthern Mariana IslandsOhioOklahomaOregonPennsylvaniaPuerto RicoRhode IslandSouth CarolinaSouth DakotaTennesseeTexasUtahU.S. Virgin IslandsVermontVirginiaWashingtonWest VirginiaWisconsinWyomingArmed Forces AmericasArmed Forces EuropeArmed Forces Pacific\n                                        State\n                                      \n                                    \n                                    ZIP Code\n                                \n                    \n                Donation Type*One TimeRecurringRecurring donations are transacted on a monthly basis.Donation Amount*\n					\n				My Donation is\n			\n				\n				In Honor of someone\n			\n			\n				\n				In Memoriam\n			\n			\n				\n				General donation\n			Named personPayment MethodPayPal Checkout\n                                    MasterCardVisaSupported Credit Cards: MasterCard\, Visa\n                                    \n                                    Card Number\n                                 \n                                            \n                                                \n                                                Expiration Date\n                                            \n                                                \n                                                 \n                                                Security Code\n                                             \n                                        \n                                            \n                                            Cardholder Name\n                                         Anonymity\n								\n								I would like to make my donation anonymously\n							\n          \n            \n            \n            \n            \n            \n            \n            \n            \n            \n            \n            \n            \n            \n        \n                        \n                        \n\nMost Needed items:\nPre-K to 5th Grade \n⏍ School Age Appropriate Backpack \n⏍ Crayola® Colors of the World Crayons \n⏍ #2 Pencils \n⏍ Crayola® Markers or Colored Pencils \n⏍ Glue Sticks Only \n⏍ Pencil Containers or Holders or Plastic Boxes \n⏍ Erasers \n⏍ Small grip scissors (left and right or adjustable) \n⏍ Colored Construction Paper \n⏍ Watercolor Paint \n⏍ Watercolor Paint Brushes \n⏍ Sidewalk Chalk \n⏍ Kwik Stix Paints \n⏍ Play-Doh \n⏍ Sharpies \n  \n6th to 12th Grade \n⏍ School Age Appropriate Backpack \n⏍ Notebook (3-5 subjects) \n⏍ 12” Plastic or Wood Ruler \n⏍ Mechanical Pencils \n⏍ Lead for Mechanical Pencils \n⏍ White Erasers \n⏍ 3 Ring Binders \n⏍ Red\, Blue & Black Gel Pens \n⏍ Sticky Notes (used for literacy) \n⏍ White School Glue \n⏍ Scissors \n⏍ Shading pencils \n⏍ Pastels \n⏍ Supply Storage Box \n⏍ Ticonderoga No. 2 Graphite Pencils \n⏍ Personal Pencil Sharpener \n⏍ Sketch Diary (8 ½” x 11” w/ white perforated sheets) \n⏍ Crayola Colored Pencils & Markers \n⏍ Ultra Fine Point Black Sharpies \n⏍ Watercolor Paint \n⏍ Watercolor Paint Brushes \n⏍ Princeton 3 pc Brush set \n⏍ Blending Stumps (Tortillions)
URL:https://windsoreducationfoundation.org/event/matching-funds-school-supplies-grant/
LOCATION:Windsor\, CT
ATTACH;FMTTYPE=:
END:VEVENT
BEGIN:VEVENT
DTSTART;TZID=America/New_York:20200403T173000
DTEND;TZID=America/New_York:20200403T203000
DTSTAMP:20260425T221921
CREATED:20200130T204343Z
LAST-MODIFIED:20200130T205342Z
UID:1055-1585935000-1585945800@windsoreducationfoundation.org
SUMMARY:Windsor Chamber Cares Auction
DESCRIPTION:WEF is a beneficiary of the Windsor Chamber Cares auction this year!  The auction is always a fun event! It takes place at Maneely’s Banquet Facility on Rye Street in South Windsor\, CT. There are always great auction items\, good food\, and lots of fun and camaraderie! \nWe hope you can join us that night! For tickets\, please contact one of our board members\, or email windsoreducationfoundationct@gmail.com for more info. \nAnd if you would like to contribute an auction item for the benefit of WEF\, we’d appreciate it!  Donations ideas: a gift card to a local shop or restaurant\, tickets to an upcoming concert or play\, experiences or getaways that you have access to\, or\, simply cash that we can put towards a great item.  To throw some ideas around\, email windsoreducationfoundationct@gmail.com \nThank you! \nSee you there!
URL:https://windsoreducationfoundation.org/event/windsor-chamber-cares-auction/
LOCATION:Maneely’s Banquet\, 65 Rye Street\, South Windsor\, CT\, 06074\, United States
ATTACH;FMTTYPE=image/jpeg:https://windsoreducationfoundation.org/wp-content/uploads/2020/01/wcc-36-small.jpg
ORGANIZER;CN="Windsor Chamber of Commercce":MAILTO:info@windsorcc.org
END:VEVENT
BEGIN:VEVENT
DTSTART;TZID=America/New_York:20200317T190000
DTEND;TZID=America/New_York:20200317T203000
DTSTAMP:20260425T221921
CREATED:20200129T143147Z
LAST-MODIFIED:20200129T143147Z
UID:1046-1584471600-1584477000@windsoreducationfoundation.org
SUMMARY:Presentation of 2020 Grant Funds
DESCRIPTION:On March 17th\, representatives from the WEF board will attend a Board of Education meeting to present to them a check for approximately $15\,000 to fund grant projects approved for  2020.
URL:https://windsoreducationfoundation.org/event/presentation-of-2020-grant-funds/
LOCATION:Windsor\, CT
ATTACH;FMTTYPE=:
END:VEVENT
BEGIN:VEVENT
DTSTART;TZID=America/New_York:20200206T183000
DTEND;TZID=America/New_York:20200206T200000
DTSTAMP:20260425T221921
CREATED:20200129T144203Z
LAST-MODIFIED:20200129T144203Z
UID:1050-1581013800-1581019200@windsoreducationfoundation.org
SUMMARY:Board Meeting
DESCRIPTION:The February board meeting is on the 1st Thursday instead of Wednesday.
URL:https://windsoreducationfoundation.org/event/board-meeting-3/
LOCATION:Windsor Chamber of Commerce\, 261 Broad Street\, Windsor\, CT\, 06095\, United States
ATTACH;FMTTYPE=:
END:VEVENT
BEGIN:VEVENT
DTSTART;TZID=America/New_York:20200115T183000
DTEND;TZID=America/New_York:20200115T203000
DTSTAMP:20260425T221921
CREATED:20200129T144113Z
LAST-MODIFIED:20200129T144425Z
UID:1048-1579113000-1579120200@windsoreducationfoundation.org
SUMMARY:Board Meeting
DESCRIPTION:All board meetings are held at Windsor Chamber of Commerce\, 261 Broad Street at 6:30pm on the first Wednesday of the month\, unless otherwise modified.
URL:https://windsoreducationfoundation.org/event/board-meeting-2/
LOCATION:Windsor Chamber of Commerce\, 261 Broad Street\, Windsor\, CT\, 06095\, United States
ATTACH;FMTTYPE=:
END:VEVENT
BEGIN:VEVENT
DTSTART;TZID=America/New_York:20190913T190000
DTEND;TZID=America/New_York:20190913T220000
DTSTAMP:20260425T221921
CREATED:20190511T121833Z
LAST-MODIFIED:20190707T205529Z
UID:913-1568401200-1568412000@windsoreducationfoundation.org
SUMMARY:Wine Bottle Bingo 9/13/2019
DESCRIPTION:Play BINGO.  |  Drink wine.  |  Win prizes. \nTickets are $45 each\, includes wine service\, table snacks and one bingo card. Additional cards  available for purchase. \nWine pull and silent auction. \n21 and older event. \n\n 
URL:https://windsoreducationfoundation.org/event/wine-bottle-bingo-copy/
LOCATION:Oliver Ellsworth Homestead\, 778 Palisado Avenue\, Windsor\, CT\, 06095\, United States
ATTACH;FMTTYPE=:
END:VEVENT
BEGIN:VEVENT
DTSTART;TZID=America/New_York:20190608T090000
DTEND;TZID=America/New_York:20190608T130000
DTSTAMP:20260425T221921
CREATED:20180425T014946Z
LAST-MODIFIED:20190511T114753Z
UID:614-1559984400-1559998800@windsoreducationfoundation.org
SUMMARY:Windsor Treasure Hunt Townwide Tag Sale
DESCRIPTION:
URL:https://windsoreducationfoundation.org/event/windsor-treasure-hunt-townwide-tag-sale/
LOCATION:Windsor\, CT
ATTACH;FMTTYPE=:
END:VEVENT
BEGIN:VEVENT
DTSTART;TZID=America/New_York:20181114T190000
DTEND;TZID=America/New_York:20181114T210000
DTSTAMP:20260425T221921
CREATED:20180402T142202Z
LAST-MODIFIED:20181019T001055Z
UID:552-1542222000-1542229200@windsoreducationfoundation.org
SUMMARY:2018 WEF Board Meetings
DESCRIPTION:Upcoming Meetings:  \nWednesdays @ 7:00 pm @ Windsor Chamber of Commerce \nNovember 14\, 2018 \nDecember 12\, 2018 \nJanuary 9\, 2019 \nFebruary 13\, 2019 \nMarch 13\, 2019 \nApril 17\, 2019 \nMay 8\, 2019
URL:https://windsoreducationfoundation.org/event/2018-wef-board-meetings/
LOCATION:Windsor Chamber of Commerce\, 261 Broad Street\, Windsor\, CT\, 06095\, United States
ATTACH;FMTTYPE=:
ORGANIZER;CN="Aimee Crisanti":MAILTO:adcrisanti@me.com
END:VEVENT
BEGIN:VEVENT
DTSTART;TZID=America/New_York:20180521T183000
DTEND;TZID=America/New_York:20180521T200000
DTSTAMP:20260425T221921
CREATED:20180402T142742Z
LAST-MODIFIED:20180402T142742Z
UID:562-1526927400-1526932800@windsoreducationfoundation.org
SUMMARY:2018 WEF Committee Meetings
DESCRIPTION:2018 Meetings @ 6:30 pm \nMay 21\, 2018 \nJuly 16\, 2018 \nSeptember 17\, 2018 \nNovember 19\, 2018
URL:https://windsoreducationfoundation.org/event/2018-wef-committee-meetings/
LOCATION:Windsor Chamber of Commerce\, 261 Broad Street\, Windsor\, CT\, 06095\, United States
ATTACH;FMTTYPE=:
END:VEVENT
BEGIN:VEVENT
DTSTART;TZID=America/New_York:20181114T190000
DTEND;TZID=America/New_York:20181114T210000
DTSTAMP:20260425T221921
CREATED:20180402T142202Z
LAST-MODIFIED:20181019T001055Z
UID:552-1542222000-1542229200@windsoreducationfoundation.org
SUMMARY:2018 WEF Board Meetings
DESCRIPTION:Upcoming Meetings:  \nWednesdays @ 7:00 pm @ Windsor Chamber of Commerce \nNovember 14\, 2018 \nDecember 12\, 2018 \nJanuary 9\, 2019 \nFebruary 13\, 2019 \nMarch 13\, 2019 \nApril 17\, 2019 \nMay 8\, 2019
URL:https://windsoreducationfoundation.org/event/2018-wef-board-meetings/
LOCATION:Windsor Chamber of Commerce\, 261 Broad Street\, Windsor\, CT\, 06095\, United States
ATTACH;FMTTYPE=:
ORGANIZER;CN="Aimee Crisanti":MAILTO:adcrisanti@me.com
END:VEVENT
BEGIN:VEVENT
DTSTART;TZID=America/New_York:20180521T183000
DTEND;TZID=America/New_York:20180521T200000
DTSTAMP:20260425T221921
CREATED:20180402T142742Z
LAST-MODIFIED:20180402T142742Z
UID:562-1526927400-1526932800@windsoreducationfoundation.org
SUMMARY:2018 WEF Committee Meetings
DESCRIPTION:2018 Meetings @ 6:30 pm \nMay 21\, 2018 \nJuly 16\, 2018 \nSeptember 17\, 2018 \nNovember 19\, 2018
URL:https://windsoreducationfoundation.org/event/2018-wef-committee-meetings/
LOCATION:Windsor Chamber of Commerce\, 261 Broad Street\, Windsor\, CT\, 06095\, United States
ATTACH;FMTTYPE=:
END:VEVENT
BEGIN:VEVENT
DTSTART;TZID=America/New_York:20180721T070000
DTEND;TZID=America/New_York:20180721T140000
DTSTAMP:20260425T221921
CREATED:20180201T175928Z
LAST-MODIFIED:20180201T175928Z
UID:429-1532156400-1532181600@windsoreducationfoundation.org
SUMMARY:Eat at Dom's Broad Street Eatery - Fundraiser
DESCRIPTION:
URL:https://windsoreducationfoundation.org/event/eat-at-doms-broad-street-eatery-fundraiser/
LOCATION:CT
ATTACH;FMTTYPE=:
END:VEVENT
BEGIN:VEVENT
DTSTART;TZID=America/New_York:20180521T183000
DTEND;TZID=America/New_York:20180521T200000
DTSTAMP:20260425T221921
CREATED:20180402T142742Z
LAST-MODIFIED:20180402T142742Z
UID:562-1526927400-1526932800@windsoreducationfoundation.org
SUMMARY:2018 WEF Committee Meetings
DESCRIPTION:2018 Meetings @ 6:30 pm \nMay 21\, 2018 \nJuly 16\, 2018 \nSeptember 17\, 2018 \nNovember 19\, 2018
URL:https://windsoreducationfoundation.org/event/2018-wef-committee-meetings/
LOCATION:Windsor Chamber of Commerce\, 261 Broad Street\, Windsor\, CT\, 06095\, United States
ATTACH;FMTTYPE=:
END:VEVENT
BEGIN:VEVENT
DTSTART;TZID=America/New_York:20180521T183000
DTEND;TZID=America/New_York:20180521T200000
DTSTAMP:20260425T221921
CREATED:20180402T142742Z
LAST-MODIFIED:20180402T142742Z
UID:562-1526927400-1526932800@windsoreducationfoundation.org
SUMMARY:2018 WEF Committee Meetings
DESCRIPTION:2018 Meetings @ 6:30 pm \nMay 21\, 2018 \nJuly 16\, 2018 \nSeptember 17\, 2018 \nNovember 19\, 2018
URL:https://windsoreducationfoundation.org/event/2018-wef-committee-meetings/
LOCATION:Windsor Chamber of Commerce\, 261 Broad Street\, Windsor\, CT\, 06095\, United States
ATTACH;FMTTYPE=:
END:VEVENT
BEGIN:VEVENT
DTSTART;TZID=America/New_York:20180209T193000
DTEND;TZID=America/New_York:20180209T220000
DTSTAMP:20260425T221921
CREATED:20171204T214518Z
LAST-MODIFIED:20171204T214957Z
UID:368-1518204600-1518213600@windsoreducationfoundation.org
SUMMARY:Decadent Date Night
DESCRIPTION:Desserts + Chocolate + Wine.  Bring your love and indulge.
URL:https://windsoreducationfoundation.org/event/decadent-date-night/
LOCATION:CT
ATTACH;FMTTYPE=:
END:VEVENT
BEGIN:VEVENT
DTSTART;TZID=America/New_York:20180108T183000
DTEND;TZID=America/New_York:20180108T200000
DTSTAMP:20260425T221921
CREATED:20171114T030930Z
LAST-MODIFIED:20171226T194006Z
UID:150-1515436200-1515441600@windsoreducationfoundation.org
SUMMARY:Committee Meeting
DESCRIPTION:
URL:https://windsoreducationfoundation.org/event/committee-meeting-2/
LOCATION:Windsor Chamber of Commerce\, 261 Broad Street\, Windsor\, CT\, 06095\, United States
ATTACH;FMTTYPE=:
END:VEVENT
BEGIN:VEVENT
DTSTART;TZID=America/New_York:20171218T183000
DTEND;TZID=America/New_York:20171218T183000
DTSTAMP:20260425T221921
CREATED:20171114T023437Z
LAST-MODIFIED:20171114T023437Z
UID:124-1513621800-1513621800@windsoreducationfoundation.org
SUMMARY:Board Meeting
DESCRIPTION:
URL:https://windsoreducationfoundation.org/event/board-meeting/
LOCATION:CT
ATTACH;FMTTYPE=:
END:VEVENT
BEGIN:VEVENT
DTSTART;TZID=America/New_York:20171120T183000
DTEND;TZID=America/New_York:20171120T183000
DTSTAMP:20260425T221921
CREATED:20171114T022353Z
LAST-MODIFIED:20171114T022353Z
UID:118-1511202600-1511202600@windsoreducationfoundation.org
SUMMARY:Committee Meeting
DESCRIPTION:
URL:https://windsoreducationfoundation.org/event/committee-meeting/
LOCATION:CT
ATTACH;FMTTYPE=:
END:VEVENT
END:VCALENDAR